
BEGIN:VCALENDAR
VERSION:2.0
PRODID:-//eventon.com NONSGML v1.0//EN
CALSCALE:GREGORIAN
METHOD:PUBLISH
BEGIN:VEVENT
UID:69ea11199c456
DTSTAMP:20260423T123121Z
DTSTART:20260426T103000Z
DTEND:20260426T215900Z
LOCATION:Vigna
SUMMARY:Menù di primavera
DESCRIPTION:\nhttps://panizzari.com/events/menu-di-primavera-10/
URL:https://panizzari.com/events/menu-di-primavera-10/
END:VEVENT
END:VCALENDAR