
BEGIN:VCALENDAR
VERSION:2.0
PRODID:-//eventon.com NONSGML v1.0//EN
CALSCALE:GREGORIAN
METHOD:PUBLISH
BEGIN:VEVENT
UID:69ea282fef37d
DTSTAMP:20260423T140951Z
DTSTART:20260425T180000Z
DTEND:20260425T215900Z
LOCATION:Vigna
SUMMARY:Menù di primavera
DESCRIPTION:\nhttps://panizzari.com/events/menu-di-primavera-9/
URL:https://panizzari.com/events/menu-di-primavera-9/
END:VEVENT
END:VCALENDAR