
BEGIN:VCALENDAR
VERSION:2.0
PRODID:-//eventon.com NONSGML v1.0//EN
CALSCALE:GREGORIAN
METHOD:PUBLISH
BEGIN:VEVENT
UID:69e5ecb79d95a
DTSTAMP:20260420T090703Z
DTSTART:20250906T150000Z
DTEND:20250906T215900Z
LOCATION:Vigna
SUMMARY:Vendemmia con brunch
DESCRIPTION:\nhttps://panizzari.com/events/vendemmia-con-brunch/
URL:https://panizzari.com/events/vendemmia-con-brunch/
END:VEVENT
END:VCALENDAR