
BEGIN:VCALENDAR
VERSION:2.0
PRODID:-//eventon.com NONSGML v1.0//EN
CALSCALE:GREGORIAN
METHOD:PUBLISH
BEGIN:VEVENT
UID:69ea11f9dadf7
DTSTAMP:20260423T123505Z
DTSTART:20260810T150000Z
DTEND:20260810T215900Z
LOCATION:Vigna
SUMMARY:AperiVino Speciale
DESCRIPTION:\nhttps://panizzari.com/events/aperivino-speciale/var/ri-15.l-L
 1
URL:https://panizzari.com/events/aperivino-speciale/var/ri-15.l-L1
END:VEVENT
END:VCALENDAR