
BEGIN:VCALENDAR
VERSION:2.0
PRODID:-//eventon.com NONSGML v1.0//EN
CALSCALE:GREGORIAN
METHOD:PUBLISH
BEGIN:VEVENT
UID:69ea118c4046f
DTSTAMP:20260423T123316Z
DTSTART:20260802T150000Z
DTEND:20260802T215900Z
LOCATION:Vigna
SUMMARY:AperiVino Speciale
DESCRIPTION:\nhttps://panizzari.com/events/aperivino-speciale/var/ri-14.l-L
 1
URL:https://panizzari.com/events/aperivino-speciale/var/ri-14.l-L1
END:VEVENT
END:VCALENDAR