
BEGIN:VCALENDAR
VERSION:2.0
PRODID:-//eventon.com NONSGML v1.0//EN
CALSCALE:GREGORIAN
METHOD:PUBLISH
BEGIN:VEVENT
UID:69ea113dcbd0b
DTSTAMP:20260423T123157Z
DTSTART:20260719T150000Z
DTEND:20260719T215900Z
LOCATION:Vigna
SUMMARY:AperiVino Speciale
DESCRIPTION:\nhttps://panizzari.com/events/aperivino-speciale/var/ri-13.l-L
 1
URL:https://panizzari.com/events/aperivino-speciale/var/ri-13.l-L1
END:VEVENT
END:VCALENDAR