
BEGIN:VCALENDAR
VERSION:2.0
PRODID:-//eventon.com NONSGML v1.0//EN
CALSCALE:GREGORIAN
METHOD:PUBLISH
BEGIN:VEVENT
UID:69ea1113deed5
DTSTAMP:20260423T123115Z
DTSTART:20260710T150000Z
DTEND:20260710T215900Z
LOCATION:Vigna
SUMMARY:AperiVino Speciale
DESCRIPTION:\nhttps://panizzari.com/events/aperivino-speciale/var/ri-12.l-L
 1
URL:https://panizzari.com/events/aperivino-speciale/var/ri-12.l-L1
END:VEVENT
END:VCALENDAR