
BEGIN:VCALENDAR
VERSION:2.0
PRODID:-//eventon.com NONSGML v1.0//EN
CALSCALE:GREGORIAN
METHOD:PUBLISH
BEGIN:VEVENT
UID:69ea281119553
DTSTAMP:20260423T140921Z
DTSTART:20260612T163000Z
DTEND:20260612T215900Z
LOCATION:Vigna
SUMMARY:AperiVino del Venerdì
DESCRIPTION:\nhttps://panizzari.com/events/aperivino-del-venerdi/
URL:https://panizzari.com/events/aperivino-del-venerdi/
END:VEVENT
END:VCALENDAR